BEGIN:VCALENDAR
VERSION:2.0
PRODID:-//Faschingsgilde Helau Krakau Höchberg - ECPv6.15.19//NONSGML v1.0//EN
CALSCALE:GREGORIAN
METHOD:PUBLISH
X-WR-CALNAME:Faschingsgilde Helau Krakau Höchberg
X-ORIGINAL-URL:https://faschingsgilde-hoechberg.de
X-WR-CALDESC:Veranstaltungen für Faschingsgilde Helau Krakau Höchberg
REFRESH-INTERVAL;VALUE=DURATION:PT1H
X-Robots-Tag:noindex
X-PUBLISHED-TTL:PT1H
BEGIN:VTIMEZONE
TZID:Europe/Berlin
BEGIN:DAYLIGHT
TZOFFSETFROM:+0100
TZOFFSETTO:+0200
TZNAME:CEST
DTSTART:20250330T010000
END:DAYLIGHT
BEGIN:STANDARD
TZOFFSETFROM:+0200
TZOFFSETTO:+0100
TZNAME:CET
DTSTART:20251026T010000
END:STANDARD
BEGIN:DAYLIGHT
TZOFFSETFROM:+0100
TZOFFSETTO:+0200
TZNAME:CEST
DTSTART:20260329T010000
END:DAYLIGHT
BEGIN:STANDARD
TZOFFSETFROM:+0200
TZOFFSETTO:+0100
TZNAME:CET
DTSTART:20261025T010000
END:STANDARD
BEGIN:DAYLIGHT
TZOFFSETFROM:+0100
TZOFFSETTO:+0200
TZNAME:CEST
DTSTART:20270328T010000
END:DAYLIGHT
BEGIN:STANDARD
TZOFFSETFROM:+0200
TZOFFSETTO:+0100
TZNAME:CET
DTSTART:20271031T010000
END:STANDARD
BEGIN:DAYLIGHT
TZOFFSETFROM:+0100
TZOFFSETTO:+0200
TZNAME:CEST
DTSTART:20280326T010000
END:DAYLIGHT
BEGIN:STANDARD
TZOFFSETFROM:+0200
TZOFFSETTO:+0100
TZNAME:CET
DTSTART:20281029T010000
END:STANDARD
END:VTIMEZONE
BEGIN:VEVENT
DTSTART;TZID=Europe/Berlin:20260718T160000
DTEND;TZID=Europe/Berlin:20260718T220000
DTSTAMP:20260420T150455
CREATED:20260219T154619Z
LAST-MODIFIED:20260408T115329Z
UID:8494-1784390400-1784412000@faschingsgilde-hoechberg.de
SUMMARY:Marktfest
DESCRIPTION:
URL:https://faschingsgilde-hoechberg.de/event/marktfest/
LOCATION:Marktplatz\, Hauptstraße 74\, Höchberg\, Bayern\, 97204\, Deutschland
ORGANIZER;CN="Marktgemeinde H%C3%B6chberg":MAILTO:poststelle@hoechberg.de
END:VEVENT
BEGIN:VEVENT
DTSTART;TZID=Europe/Berlin:20260918T193000
DTEND;TZID=Europe/Berlin:20260918T210000
DTSTAMP:20260420T150455
CREATED:20260219T154036Z
LAST-MODIFIED:20260408T115157Z
UID:8482-1789759800-1789765200@faschingsgilde-hoechberg.de
SUMMARY:Mitgliederversammlung
DESCRIPTION:
URL:https://faschingsgilde-hoechberg.de/event/mitgliederversammlung/
LOCATION:Pfarrheim Mariä Geburt\, Jägerstraße 3\, Höchberg\, 97204\, Deutschland
ORGANIZER;CN="Faschingsgilde Helau Krakau H%C3%B6chberg e.V.":MAILTO:info@helaukrakau.de
END:VEVENT
BEGIN:VEVENT
DTSTART;TZID=Europe/Berlin:20260926T000000
DTEND;TZID=Europe/Berlin:20260927T235959
DTSTAMP:20260420T150455
CREATED:20260303T091917Z
LAST-MODIFIED:20260303T091919Z
UID:8532-1790380800-1790553599@faschingsgilde-hoechberg.de
SUMMARY:Grumbernfest
DESCRIPTION:
URL:https://faschingsgilde-hoechberg.de/event/grumbernfest/
LOCATION:Pfarrheim Mariä Geburt\, Jägerstraße 3\, Höchberg\, 97204\, Deutschland
ORGANIZER;CN="Faschingsgilde Helau Krakau H%C3%B6chberg e.V.":MAILTO:info@helaukrakau.de
END:VEVENT
BEGIN:VEVENT
DTSTART;TZID=Europe/Berlin:20261023T193000
DTEND;TZID=Europe/Berlin:20261023T210000
DTSTAMP:20260420T150455
CREATED:20260219T154142Z
LAST-MODIFIED:20260219T154144Z
UID:8484-1792783800-1792789200@faschingsgilde-hoechberg.de
SUMMARY:Gildensitzung
DESCRIPTION:
URL:https://faschingsgilde-hoechberg.de/event/gildensitzung/
LOCATION:Kulturstüble\, Hauptstr. 76\, Höchberg\, Bayern\, 97204\, Deutschland
ORGANIZER;CN="Faschingsgilde Helau Krakau H%C3%B6chberg e.V.":MAILTO:info@helaukrakau.de
END:VEVENT
BEGIN:VEVENT
DTSTART;TZID=Europe/Berlin:20261114T111100
DTEND;TZID=Europe/Berlin:20261114T120000
DTSTAMP:20260420T150455
CREATED:20260219T154218Z
LAST-MODIFIED:20260219T154219Z
UID:8486-1794654660-1794657600@faschingsgilde-hoechberg.de
SUMMARY:Schlüsselübergabe
DESCRIPTION:
URL:https://faschingsgilde-hoechberg.de/event/schluesseluebergabe/
LOCATION:Marktplatz\, Hauptstraße 74\, Höchberg\, Bayern\, 97204\, Deutschland
ORGANIZER;CN="Faschingsgilde Helau Krakau H%C3%B6chberg e.V.":MAILTO:info@helaukrakau.de
END:VEVENT
BEGIN:VEVENT
DTSTART;TZID=Europe/Berlin:20261114T183000
DTEND;TZID=Europe/Berlin:20261114T183000
DTSTAMP:20260420T150455
CREATED:20260219T154309Z
LAST-MODIFIED:20260219T154310Z
UID:8488-1794681000-1794681000@faschingsgilde-hoechberg.de
SUMMARY:Ehrenabend
DESCRIPTION:
URL:https://faschingsgilde-hoechberg.de/event/ehrenabend/
LOCATION:Pfarrheim Mariä Geburt\, Jägerstraße 3\, Höchberg\, 97204\, Deutschland
ORGANIZER;CN="Faschingsgilde Helau Krakau H%C3%B6chberg e.V.":MAILTO:info@helaukrakau.de
END:VEVENT
BEGIN:VEVENT
DTSTART;TZID=Europe/Berlin:20261127T193000
DTEND;TZID=Europe/Berlin:20261127T210000
DTSTAMP:20260420T150455
CREATED:20260219T154513Z
LAST-MODIFIED:20260219T154514Z
UID:8492-1795807800-1795813200@faschingsgilde-hoechberg.de
SUMMARY:Gildensitzung
DESCRIPTION:
URL:https://faschingsgilde-hoechberg.de/event/gildensitzung-2/
LOCATION:Kulturstüble\, Hauptstr. 76\, Höchberg\, Bayern\, 97204\, Deutschland
ORGANIZER;CN="Faschingsgilde Helau Krakau H%C3%B6chberg e.V.":MAILTO:info@helaukrakau.de
END:VEVENT
BEGIN:VEVENT
DTSTART;TZID=Europe/Berlin:20261212T150000
DTEND;TZID=Europe/Berlin:20261212T150000
DTSTAMP:20260420T150455
CREATED:20260219T154405Z
LAST-MODIFIED:20260219T154406Z
UID:8490-1797087600-1797087600@faschingsgilde-hoechberg.de
SUMMARY:Weihnachtsfeier
DESCRIPTION:
URL:https://faschingsgilde-hoechberg.de/event/weihnachtsfeier/
LOCATION:Pfarrheim Mariä Geburt\, Jägerstraße 3\, Höchberg\, 97204\, Deutschland
ORGANIZER;CN="Faschingsgilde Helau Krakau H%C3%B6chberg e.V.":MAILTO:info@helaukrakau.de
END:VEVENT
BEGIN:VEVENT
DTSTART;TZID=Europe/Berlin:20270109T130000
DTEND;TZID=Europe/Berlin:20270109T170000
DTSTAMP:20260420T150455
CREATED:20260219T155056Z
LAST-MODIFIED:20260219T155057Z
UID:8499-1799499600-1799514000@faschingsgilde-hoechberg.de
SUMMARY:Generalprobe
DESCRIPTION:
URL:https://faschingsgilde-hoechberg.de/event/generalprobe/
LOCATION:Pfarrheim Mariä Geburt\, Jägerstraße 3\, Höchberg\, 97204\, Deutschland
ORGANIZER;CN="Faschingsgilde Helau Krakau H%C3%B6chberg e.V.":MAILTO:info@helaukrakau.de
END:VEVENT
BEGIN:VEVENT
DTSTART;TZID=Europe/Berlin:20270112T193000
DTEND;TZID=Europe/Berlin:20270112T203000
DTSTAMP:20260420T150455
CREATED:20260219T155128Z
LAST-MODIFIED:20260219T155129Z
UID:8501-1799782200-1799785800@faschingsgilde-hoechberg.de
SUMMARY:Manöverkritik
DESCRIPTION:
URL:https://faschingsgilde-hoechberg.de/event/manoeverkritik/
LOCATION:Pfarrheim Mariä Geburt\, Jägerstraße 3\, Höchberg\, 97204\, Deutschland
ORGANIZER;CN="Faschingsgilde Helau Krakau H%C3%B6chberg e.V.":MAILTO:info@helaukrakau.de
END:VEVENT
BEGIN:VEVENT
DTSTART;TZID=Europe/Berlin:20270116T193300
DTEND;TZID=Europe/Berlin:20270116T193300
DTSTAMP:20260420T150455
CREATED:20260303T090636Z
LAST-MODIFIED:20260303T090638Z
UID:8517-1800127980-1800127980@faschingsgilde-hoechberg.de
SUMMARY:1. Prunksitzung
DESCRIPTION:
URL:https://faschingsgilde-hoechberg.de/event/1-prunksitzung/
LOCATION:Pfarrheim Mariä Geburt\, Jägerstraße 3\, Höchberg\, 97204\, Deutschland
ORGANIZER;CN="Faschingsgilde Helau Krakau H%C3%B6chberg e.V.":MAILTO:info@helaukrakau.de
END:VEVENT
BEGIN:VEVENT
DTSTART;TZID=Europe/Berlin:20270117T143300
DTEND;TZID=Europe/Berlin:20270117T170000
DTSTAMP:20260420T150455
CREATED:20260303T090952Z
LAST-MODIFIED:20260303T091218Z
UID:8525-1800196380-1800205200@faschingsgilde-hoechberg.de
SUMMARY:Kinder- und Jugendsitzung
DESCRIPTION:
URL:https://faschingsgilde-hoechberg.de/event/kinder-und-jugendsitzung/
LOCATION:Pfarrheim Mariä Geburt\, Jägerstraße 3\, Höchberg\, 97204\, Deutschland
ORGANIZER;CN="Faschingsgilde Helau Krakau H%C3%B6chberg e.V.":MAILTO:info@helaukrakau.de
END:VEVENT
BEGIN:VEVENT
DTSTART;TZID=Europe/Berlin:20270122T193300
DTEND;TZID=Europe/Berlin:20270122T193300
DTSTAMP:20260420T150455
CREATED:20260303T090744Z
LAST-MODIFIED:20260303T090745Z
UID:8519-1800646380-1800646380@faschingsgilde-hoechberg.de
SUMMARY:2. Prunksitzung
DESCRIPTION:
URL:https://faschingsgilde-hoechberg.de/event/2-prunksitzung/
LOCATION:Pfarrheim Mariä Geburt\, Jägerstraße 3\, Höchberg\, 97204\, Deutschland
ORGANIZER;CN="Faschingsgilde Helau Krakau H%C3%B6chberg e.V.":MAILTO:info@helaukrakau.de
END:VEVENT
BEGIN:VEVENT
DTSTART;TZID=Europe/Berlin:20270123T193300
DTEND;TZID=Europe/Berlin:20270123T193300
DTSTAMP:20260420T150455
CREATED:20260303T090836Z
LAST-MODIFIED:20260303T090837Z
UID:8521-1800732780-1800732780@faschingsgilde-hoechberg.de
SUMMARY:3. Prunksitzung
DESCRIPTION:
URL:https://faschingsgilde-hoechberg.de/event/3-prunksitzung/
LOCATION:Pfarrheim Mariä Geburt\, Jägerstraße 3\, Höchberg\, 97204\, Deutschland
ORGANIZER;CN="Faschingsgilde Helau Krakau H%C3%B6chberg e.V.":MAILTO:info@helaukrakau.de
END:VEVENT
BEGIN:VEVENT
DTSTART;TZID=Europe/Berlin:20270130T193300
DTEND;TZID=Europe/Berlin:20270130T193300
DTSTAMP:20260420T150455
CREATED:20260303T090916Z
LAST-MODIFIED:20260303T090918Z
UID:8523-1801337580-1801337580@faschingsgilde-hoechberg.de
SUMMARY:4. Prunksitzung
DESCRIPTION:
URL:https://faschingsgilde-hoechberg.de/event/4-prunksitzung/
LOCATION:Pfarrheim Mariä Geburt\, Jägerstraße 3\, Höchberg\, 97204\, Deutschland
ORGANIZER;CN="Faschingsgilde Helau Krakau H%C3%B6chberg e.V.":MAILTO:info@helaukrakau.de
END:VEVENT
BEGIN:VEVENT
DTSTART;TZID=Europe/Berlin:20270204T193300
DTEND;TZID=Europe/Berlin:20270204T193300
DTSTAMP:20260420T150455
CREATED:20260303T091136Z
LAST-MODIFIED:20260303T091138Z
UID:8529-1801769580-1801769580@faschingsgilde-hoechberg.de
SUMMARY:Weiber-Nacht
DESCRIPTION:
URL:https://faschingsgilde-hoechberg.de/event/weiber-nacht/
LOCATION:Pfarrheim Mariä Geburt\, Jägerstraße 3\, Höchberg\, 97204\, Deutschland
ORGANIZER;CN="Faschingsgilde Helau Krakau H%C3%B6chberg e.V.":MAILTO:info@helaukrakau.de
END:VEVENT
BEGIN:VEVENT
DTSTART;TZID=Europe/Berlin:20270209T140000
DTEND;TZID=Europe/Berlin:20270209T140000
DTSTAMP:20260420T150455
CREATED:20260303T091054Z
LAST-MODIFIED:20260303T091055Z
UID:8527-1802181600-1802181600@faschingsgilde-hoechberg.de
SUMMARY:Faschingsumzug Höchberg
DESCRIPTION:
URL:https://faschingsgilde-hoechberg.de/event/faschingsumzug-hoechberg/
ORGANIZER;CN="Marktgemeinde H%C3%B6chberg":MAILTO:poststelle@hoechberg.de
END:VEVENT
END:VCALENDAR